BEGIN:VCALENDAR
VERSION:2.0
PRODID:-//horsealert.local//NONSGML kigkonsult.se iCalcreator 2.10.5//
CALSCALE:GREGORIAN
X-WR-TIMEZONE:Europe/Dublin
BEGIN:VTIMEZONE
TZID:Etc/GMT-1
BEGIN:STANDARD
DTSTART:20010101T000000
TZOFFSETFROM:+0100
TZOFFSETTO:+0100
TZNAME:GMT +01:00
END:STANDARD
END:VTIMEZONE
BEGIN:VEVENT
UID:20260426T004300CEST-1582TwujVC@horsealert.local
DTSTAMP:20260425T220400Z
CATEGORIES:Horse Alerts
DESCRIPTION:Tote Daily Double Races 5 & 6 Handicap Hurdle \(80-109\)
DTSTART:20130210T154000
LOCATION:Eire
SUMMARY:Horse Racing:Tote Daily Double Races 5 & 6 Handicap Hurdle \(80-109
 \)
END:VEVENT
END:VCALENDAR
