BEGIN:VCALENDAR
VERSION:2.0
PRODID:-//horsealert.local//NONSGML kigkonsult.se iCalcreator 2.10.5//
CALSCALE:GREGORIAN
X-WR-TIMEZONE:Europe/Dublin
BEGIN:VTIMEZONE
TZID:Etc/GMT-1
BEGIN:STANDARD
DTSTART:20010101T000000
TZOFFSETFROM:+0100
TZOFFSETTO:+0100
TZNAME:GMT +01:00
END:STANDARD
END:VTIMEZONE
BEGIN:VEVENT
UID:20260426T004412CEST-9837udvbXu@horsealert.local
DTSTAMP:20260425T220412Z
CATEGORIES:Horse Alerts
DESCRIPTION:Racing Plus Chase Day 23.02.13 Handicap Chase
DTSTART:20130208T141500
LOCATION:England
SUMMARY:Horse Racing:Racing Plus Chase Day 23.02.13 Handicap Chase
END:VEVENT
END:VCALENDAR
