BEGIN:VCALENDAR
VERSION:2.0
PRODID:-//horsealert.local//NONSGML kigkonsult.se iCalcreator 2.10.5//
CALSCALE:GREGORIAN
X-WR-TIMEZONE:Europe/Dublin
BEGIN:VTIMEZONE
TZID:Etc/GMT-1
BEGIN:STANDARD
DTSTART:20010101T000000
TZOFFSETFROM:+0100
TZOFFSETTO:+0100
TZNAME:GMT +01:00
END:STANDARD
END:VTIMEZONE
BEGIN:VEVENT
UID:20260425T225611CEST-3235N3rbTU@horsealert.local
DTSTAMP:20260425T200411Z
CATEGORIES:Horse Alerts
DESCRIPTION:At The Races Sky 415 Racing Excellence \'Hands And Heels\' Hand
 icap Hurdle \(Conditional/Amateur\)
DTSTART:20130207T155500
LOCATION:England
SUMMARY:Horse Racing:At The Races Sky 415 Racing Excellence \'Hands And Hee
 ls\' Handicap Hurdle \(Conditional/Amateur\)
END:VEVENT
END:VCALENDAR
