BEGIN:VCALENDAR
VERSION:2.0
PRODID:-//horsealert.local//NONSGML kigkonsult.se iCalcreator 2.10.5//
CALSCALE:GREGORIAN
X-WR-TIMEZONE:Europe/Dublin
BEGIN:VTIMEZONE
TZID:Etc/GMT-1
BEGIN:STANDARD
DTSTART:20010101T000000
TZOFFSETFROM:+0100
TZOFFSETTO:+0100
TZNAME:GMT +01:00
END:STANDARD
END:VTIMEZONE
BEGIN:VEVENT
UID:20260425T225633CEST-38276das81@horsealert.local
DTSTAMP:20260425T200433Z
CATEGORIES:Horse Alerts
DESCRIPTION:John Wade Skip Hire Novices\' Hurdle \(John Wade And Collins Se
 afoods Ltd Hurdle Series Qualifier\)
DTSTART:20130205T132000
LOCATION:England
SUMMARY:Horse Racing:John Wade Skip Hire Novices\' Hurdle \(John Wade And C
 ollins Seafoods Ltd Hurdle Series Qualifier\)
END:VEVENT
END:VCALENDAR
