BEGIN:VCALENDAR
VERSION:2.0
PRODID:-//horsealert.local//NONSGML kigkonsult.se iCalcreator 2.10.5//
CALSCALE:GREGORIAN
X-WR-TIMEZONE:Europe/Dublin
BEGIN:VTIMEZONE
TZID:Etc/GMT-1
BEGIN:STANDARD
DTSTART:20010101T000000
TZOFFSETFROM:+0100
TZOFFSETTO:+0100
TZNAME:GMT +01:00
END:STANDARD
END:VTIMEZONE
BEGIN:VEVENT
UID:20260425T225600CEST-4097viP4zU@horsealert.local
DTSTAMP:20260425T200400Z
CATEGORIES:Horse Alerts
DESCRIPTION:Great Value Corporate Hospitality At Fairyhouse Maiden Hurdle
DTSTART:20130205T135500
LOCATION:Eire
SUMMARY:Horse Racing:Great Value Corporate Hospitality At Fairyhouse Maiden
  Hurdle
END:VEVENT
END:VCALENDAR
