BEGIN:VCALENDAR
VERSION:2.0
PRODID:-//horsealert.local//NONSGML kigkonsult.se iCalcreator 2.10.5//
CALSCALE:GREGORIAN
X-WR-TIMEZONE:Europe/Dublin
BEGIN:VTIMEZONE
TZID:Etc/GMT-1
BEGIN:STANDARD
DTSTART:20010101T000000
TZOFFSETFROM:+0100
TZOFFSETTO:+0100
TZNAME:GMT +01:00
END:STANDARD
END:VTIMEZONE
BEGIN:VEVENT
UID:20260425T225621CEST-7789s8tW93@horsealert.local
DTSTAMP:20260425T200421Z
CATEGORIES:Horse Alerts
DESCRIPTION:John Smith\'s Scottish Champion Chase \(Handicap\) \(For The Bo
 wes-Lyons Trophy\) \(Sunday 5k Bonus Race\)
DTSTART:20130203T150000
LOCATION:Scotland
SUMMARY:Horse Racing:John Smith\'s Scottish Champion Chase \(Handicap\) \(F
 or The Bowes-Lyons Trophy\) \(Sunday 5k Bonus Race\)
END:VEVENT
END:VCALENDAR
