BEGIN:VCALENDAR
VERSION:2.0
PRODID:-//horsealert.local//NONSGML kigkonsult.se iCalcreator 2.10.5//
CALSCALE:GREGORIAN
X-WR-TIMEZONE:Europe/Dublin
BEGIN:VTIMEZONE
TZID:Etc/GMT-1
BEGIN:STANDARD
DTSTART:20010101T000000
TZOFFSETFROM:+0100
TZOFFSETTO:+0100
TZNAME:GMT +01:00
END:STANDARD
END:VTIMEZONE
BEGIN:VEVENT
UID:20260426T023947CEST-2841TjnwEh@horsealert.local
DTSTAMP:20260426T000447Z
CATEGORIES:Horse Alerts
DESCRIPTION:William Hill Welsh Champion Hurdle \(Limited Handicap\)
DTSTART:20130202T140500
LOCATION:Wales
SUMMARY:Horse Racing:William Hill Welsh Champion Hurdle \(Limited Handicap\
 )
END:VEVENT
END:VCALENDAR
