BEGIN:VCALENDAR
VERSION:2.0
PRODID:-//horsealert.local//NONSGML kigkonsult.se iCalcreator 2.10.5//
CALSCALE:GREGORIAN
X-WR-TIMEZONE:Europe/Dublin
BEGIN:VTIMEZONE
TZID:Etc/GMT-1
BEGIN:STANDARD
DTSTART:20010101T000000
TZOFFSETFROM:+0100
TZOFFSETTO:+0100
TZNAME:GMT +01:00
END:STANDARD
END:VTIMEZONE
BEGIN:VEVENT
UID:20260426T023916CEST-6188gPpIkK@horsealert.local
DTSTAMP:20260426T000416Z
CATEGORIES:Horse Alerts
DESCRIPTION:CGA Foxhunter Trial Hunters\' Chase \(For The Stewart Tory Memo
 rial Challenge Trophy\)
DTSTART:20130131T154000
LOCATION:England
SUMMARY:Horse Racing:CGA Foxhunter Trial Hunters\' Chase \(For The Stewart 
 Tory Memorial Challenge Trophy\)
END:VEVENT
END:VCALENDAR
