BEGIN:VCALENDAR
VERSION:2.0
PRODID:-//horsealert.local//NONSGML kigkonsult.se iCalcreator 2.10.5//
CALSCALE:GREGORIAN
X-WR-TIMEZONE:Europe/Dublin
BEGIN:VTIMEZONE
TZID:Etc/GMT-1
BEGIN:STANDARD
DTSTART:20010101T000000
TZOFFSETFROM:+0100
TZOFFSETTO:+0100
TZNAME:GMT +01:00
END:STANDARD
END:VTIMEZONE
BEGIN:VEVENT
UID:20260426T023746CEST-6584Tk7vVK@horsealert.local
DTSTAMP:20260426T000446Z
CATEGORIES:Horse Alerts
DESCRIPTION:Hortensias Claiming \(AWT\)
DTSTART:20130130T152500
LOCATION:France
SUMMARY:Horse Racing:Hortensias Claiming \(AWT\)
END:VEVENT
END:VCALENDAR
