BEGIN:VCALENDAR
VERSION:2.0
PRODID:-//horsealert.local//NONSGML kigkonsult.se iCalcreator 2.10.5//
CALSCALE:GREGORIAN
X-WR-TIMEZONE:Europe/Dublin
BEGIN:VTIMEZONE
TZID:Etc/GMT-1
BEGIN:STANDARD
DTSTART:20010101T000000
TZOFFSETFROM:+0100
TZOFFSETTO:+0100
TZNAME:GMT +01:00
END:STANDARD
END:VTIMEZONE
BEGIN:VEVENT
UID:20260426T023932CEST-0064Zw94uT@horsealert.local
DTSTAMP:20260426T000431Z
CATEGORIES:Horse Alerts
DESCRIPTION:BetVictor Cheltenham Festival Antepost Pioneers Median Auction 
 Maiden Stakes
DTSTART:20130128T142000
LOCATION:England
SUMMARY:Horse Racing:BetVictor Cheltenham Festival Antepost Pioneers Median
  Auction Maiden Stakes
END:VEVENT
END:VCALENDAR
