BEGIN:VCALENDAR
VERSION:2.0
PRODID:-//horsealert.local//NONSGML kigkonsult.se iCalcreator 2.10.5//
CALSCALE:GREGORIAN
X-WR-TIMEZONE:Europe/Dublin
BEGIN:VTIMEZONE
TZID:Etc/GMT-1
BEGIN:STANDARD
DTSTART:20010101T000000
TZOFFSETFROM:+0100
TZOFFSETTO:+0100
TZNAME:GMT +01:00
END:STANDARD
END:VTIMEZONE
BEGIN:VEVENT
UID:20260426T023950CEST-5624RudGvx@horsealert.local
DTSTAMP:20260426T000450Z
CATEGORIES:Horse Alerts
DESCRIPTION:Prix D\'anglet Stakes \(AWT\)
DTSTART:20130126T160000
LOCATION:France
SUMMARY:Horse Racing:Prix D\'anglet Stakes \(AWT\)
END:VEVENT
END:VCALENDAR
