BEGIN:VCALENDAR
VERSION:2.0
PRODID:-//horsealert.local//NONSGML kigkonsult.se iCalcreator 2.10.5//
CALSCALE:GREGORIAN
X-WR-TIMEZONE:Europe/Dublin
BEGIN:VTIMEZONE
TZID:Etc/GMT-1
BEGIN:STANDARD
DTSTART:20010101T000000
TZOFFSETFROM:+0100
TZOFFSETTO:+0100
TZNAME:GMT +01:00
END:STANDARD
END:VTIMEZONE
BEGIN:VEVENT
UID:20260426T023942CEST-4909CNModX@horsealert.local
DTSTAMP:20260426T000442Z
CATEGORIES:Horse Alerts
DESCRIPTION:Free Bet Bonanza Now At bookmakers.co.uk \'Jumpers\' Bumper\' N
 H Flat Race
DTSTART:20130127T155000
LOCATION:England
SUMMARY:Horse Racing:Free Bet Bonanza Now At bookmakers.co.uk \'Jumpers\' B
 umper\' NH Flat Race
END:VEVENT
END:VCALENDAR
