BEGIN:VCALENDAR
VERSION:2.0
PRODID:-//horsealert.local//NONSGML kigkonsult.se iCalcreator 2.10.5//
CALSCALE:GREGORIAN
X-WR-TIMEZONE:Europe/Dublin
BEGIN:VTIMEZONE
TZID:Etc/GMT-1
BEGIN:STANDARD
DTSTART:20010101T000000
TZOFFSETFROM:+0100
TZOFFSETTO:+0100
TZNAME:GMT +01:00
END:STANDARD
END:VTIMEZONE
BEGIN:VEVENT
UID:20260426T023920CEST-0841dkVtkK@horsealert.local
DTSTAMP:20260426T000420Z
CATEGORIES:Horse Alerts
DESCRIPTION:Claim Free Bets Today At bookmakers.co.uk Maiden Open NH Flat R
 ace
DTSTART:20130127T133500
LOCATION:England
SUMMARY:Horse Racing:Claim Free Bets Today At bookmakers.co.uk Maiden Open 
 NH Flat Race
END:VEVENT
END:VCALENDAR
