BEGIN:VCALENDAR
VERSION:2.0
PRODID:-//horsealert.local//NONSGML kigkonsult.se iCalcreator 2.10.5//
CALSCALE:GREGORIAN
X-WR-TIMEZONE:Europe/Dublin
BEGIN:VTIMEZONE
TZID:Etc/GMT-1
BEGIN:STANDARD
DTSTART:20010101T000000
TZOFFSETFROM:+0100
TZOFFSETTO:+0100
TZNAME:GMT +01:00
END:STANDARD
END:VTIMEZONE
BEGIN:VEVENT
UID:20260426T023741CEST-7330Uks3Ko@horsealert.local
DTSTAMP:20260426T000441Z
CATEGORIES:Horse Alerts
DESCRIPTION:Malcolm \'Hairy\' Roberts Memorial \'National Hunt\' Novices\' 
 Hurdle
DTSTART:20130127T131500
LOCATION:England
SUMMARY:Horse Racing:Malcolm \'Hairy\' Roberts Memorial \'National Hunt\' N
 ovices\' Hurdle
END:VEVENT
END:VCALENDAR
