BEGIN:VCALENDAR
VERSION:2.0
PRODID:-//horsealert.local//NONSGML kigkonsult.se iCalcreator 2.10.5//
CALSCALE:GREGORIAN
X-WR-TIMEZONE:Europe/Dublin
BEGIN:VTIMEZONE
TZID:Etc/GMT-1
BEGIN:STANDARD
DTSTART:20010101T000000
TZOFFSETFROM:+0100
TZOFFSETTO:+0100
TZNAME:GMT +01:00
END:STANDARD
END:VTIMEZONE
BEGIN:VEVENT
UID:20260426T023918CEST-5341LbtHV8@horsealert.local
DTSTAMP:20260426T000418Z
CATEGORIES:Horse Alerts
DESCRIPTION:Pick Today\'s Winners At bookmakers.co.uk Claiming Stakes
DTSTART:20130125T183000
LOCATION:England
SUMMARY:Horse Racing:Pick Today\'s Winners At bookmakers.co.uk Claiming Sta
 kes
END:VEVENT
END:VCALENDAR
