BEGIN:VCALENDAR
VERSION:2.0
PRODID:-//horsealert.local//NONSGML kigkonsult.se iCalcreator 2.10.5//
CALSCALE:GREGORIAN
X-WR-TIMEZONE:Europe/Dublin
BEGIN:VTIMEZONE
TZID:Etc/GMT-1
BEGIN:STANDARD
DTSTART:20010101T000000
TZOFFSETFROM:+0100
TZOFFSETTO:+0100
TZNAME:GMT +01:00
END:STANDARD
END:VTIMEZONE
BEGIN:VEVENT
UID:20260426T023919CEST-6186sm0urP@horsealert.local
DTSTAMP:20260426T000419Z
CATEGORIES:Horse Alerts
DESCRIPTION:Annual Membership At Lingfield Park Golf Club Handicap
DTSTART:20130124T154500
LOCATION:England
SUMMARY:Horse Racing:Annual Membership At Lingfield Park Golf Club Handicap
END:VEVENT
END:VCALENDAR
