BEGIN:VCALENDAR
VERSION:2.0
PRODID:-//horsealert.local//NONSGML kigkonsult.se iCalcreator 2.10.5//
CALSCALE:GREGORIAN
X-WR-TIMEZONE:Europe/Dublin
BEGIN:VTIMEZONE
TZID:Etc/GMT-1
BEGIN:STANDARD
DTSTART:20010101T000000
TZOFFSETFROM:+0100
TZOFFSETTO:+0100
TZNAME:GMT +01:00
END:STANDARD
END:VTIMEZONE
BEGIN:VEVENT
UID:20260426T004341CEST-4196i2jUJ9@horsealert.local
DTSTAMP:20260425T220441Z
CATEGORIES:Horse Alerts
DESCRIPTION:BetVictor Exclusive Antepost Offer Cheltenham 2013 Handicap Hur
 dle
DTSTART:20130123T154000
LOCATION:Scotland
SUMMARY:Horse Racing:BetVictor Exclusive Antepost Offer Cheltenham 2013 Han
 dicap Hurdle
END:VEVENT
END:VCALENDAR
