BEGIN:VCALENDAR
VERSION:2.0
PRODID:-//horsealert.local//NONSGML kigkonsult.se iCalcreator 2.10.5//
CALSCALE:GREGORIAN
X-WR-TIMEZONE:Europe/Dublin
BEGIN:VTIMEZONE
TZID:Etc/GMT-1
BEGIN:STANDARD
DTSTART:20010101T000000
TZOFFSETFROM:+0100
TZOFFSETTO:+0100
TZNAME:GMT +01:00
END:STANDARD
END:VTIMEZONE
BEGIN:VEVENT
UID:20260426T023801CEST-76316BAkVk@horsealert.local
DTSTAMP:20260426T000401Z
CATEGORIES:Horse Alerts
DESCRIPTION:Book Your Tickets For Racing Plus Chase Handicap
DTSTART:20130121T135000
LOCATION:England
SUMMARY:Horse Racing:Book Your Tickets For Racing Plus Chase Handicap
END:VEVENT
END:VCALENDAR
