BEGIN:VCALENDAR
VERSION:2.0
PRODID:-//horsealert.local//NONSGML kigkonsult.se iCalcreator 2.10.5//
CALSCALE:GREGORIAN
X-WR-TIMEZONE:Europe/Dublin
BEGIN:VTIMEZONE
TZID:Etc/GMT-1
BEGIN:STANDARD
DTSTART:20010101T000000
TZOFFSETFROM:+0100
TZOFFSETTO:+0100
TZNAME:GMT +01:00
END:STANDARD
END:VTIMEZONE
BEGIN:VEVENT
UID:20260426T023758CEST-9389Cr1aiw@horsealert.local
DTSTAMP:20260426T000458Z
CATEGORIES:Horse Alerts
DESCRIPTION:Al Capone II Juvenile Hurdle \(Div 2\)
DTSTART:20130120T155500
LOCATION:France
SUMMARY:Horse Racing:Al Capone II Juvenile Hurdle \(Div 2\)
END:VEVENT
END:VCALENDAR
