BEGIN:VCALENDAR
VERSION:2.0
PRODID:-//horsealert.local//NONSGML kigkonsult.se iCalcreator 2.10.5//
CALSCALE:GREGORIAN
X-WR-TIMEZONE:Europe/Dublin
BEGIN:VTIMEZONE
TZID:Etc/GMT-1
BEGIN:STANDARD
DTSTART:20010101T000000
TZOFFSETFROM:+0100
TZOFFSETTO:+0100
TZNAME:GMT +01:00
END:STANDARD
END:VTIMEZONE
BEGIN:VEVENT
UID:20260426T004355CEST-2111lPf2CD@horsealert.local
DTSTAMP:20260425T220455Z
CATEGORIES:Horse Alerts
DESCRIPTION:Cheltenham Trial Day 24th February Handicap Chase \(0-109\)
DTSTART:20130119T155000
LOCATION:Eire
SUMMARY:Horse Racing:Cheltenham Trial Day 24th February Handicap Chase \(0-
 109\)
END:VEVENT
END:VCALENDAR
