BEGIN:VCALENDAR
VERSION:2.0
PRODID:-//horsealert.local//NONSGML kigkonsult.se iCalcreator 2.10.5//
CALSCALE:GREGORIAN
X-WR-TIMEZONE:Europe/Dublin
BEGIN:VTIMEZONE
TZID:Etc/GMT-1
BEGIN:STANDARD
DTSTART:20010101T000000
TZOFFSETFROM:+0100
TZOFFSETTO:+0100
TZNAME:GMT +01:00
END:STANDARD
END:VTIMEZONE
BEGIN:VEVENT
UID:20260426T023926CEST-6367TkLulS@horsealert.local
DTSTAMP:20260426T000426Z
CATEGORIES:Horse Alerts
DESCRIPTION:Discount Tyres\, Cardiff\, Newport And Cwmbran Maiden Hurdle
DTSTART:20130118T160500
LOCATION:Wales
SUMMARY:Horse Racing:Discount Tyres\, Cardiff\, Newport And Cwmbran Maiden 
 Hurdle
END:VEVENT
END:VCALENDAR
