BEGIN:VCALENDAR
VERSION:2.0
PRODID:-//horsealert.local//NONSGML kigkonsult.se iCalcreator 2.10.5//
CALSCALE:GREGORIAN
X-WR-TIMEZONE:Europe/Dublin
BEGIN:VTIMEZONE
TZID:Etc/GMT-1
BEGIN:STANDARD
DTSTART:20010101T000000
TZOFFSETFROM:+0100
TZOFFSETTO:+0100
TZNAME:GMT +01:00
END:STANDARD
END:VTIMEZONE
BEGIN:VEVENT
UID:20260426T004411CEST-7080gV63GP@horsealert.local
DTSTAMP:20260425T220411Z
CATEGORIES:Horse Alerts
DESCRIPTION:Tony Wright 50th Birthday Celebration Handicap Chase
DTSTART:20130118T150000
LOCATION:Wales
SUMMARY:Horse Racing:Tony Wright 50th Birthday Celebration Handicap Chase
END:VEVENT
END:VCALENDAR
