BEGIN:VCALENDAR
VERSION:2.0
PRODID:-//horsealert.local//NONSGML kigkonsult.se iCalcreator 2.10.5//
CALSCALE:GREGORIAN
X-WR-TIMEZONE:Europe/Dublin
BEGIN:VTIMEZONE
TZID:Etc/GMT-1
BEGIN:STANDARD
DTSTART:20010101T000000
TZOFFSETFROM:+0100
TZOFFSETTO:+0100
TZNAME:GMT +01:00
END:STANDARD
END:VTIMEZONE
BEGIN:VEVENT
UID:20260426T023740CEST-8236fhSjTI@horsealert.local
DTSTAMP:20260426T000440Z
CATEGORIES:Horse Alerts
DESCRIPTION:bookmakers.co.uk Gives You Free Bets Handicap \(Div 1\)
DTSTART:20130118T190000
LOCATION:England
SUMMARY:Horse Racing:bookmakers.co.uk Gives You Free Bets Handicap \(Div 1\
 )
END:VEVENT
END:VCALENDAR
