BEGIN:VCALENDAR
VERSION:2.0
PRODID:-//horsealert.local//NONSGML kigkonsult.se iCalcreator 2.10.5//
CALSCALE:GREGORIAN
X-WR-TIMEZONE:Europe/Dublin
BEGIN:VTIMEZONE
TZID:Etc/GMT-1
BEGIN:STANDARD
DTSTART:20010101T000000
TZOFFSETFROM:+0100
TZOFFSETTO:+0100
TZNAME:GMT +01:00
END:STANDARD
END:VTIMEZONE
BEGIN:VEVENT
UID:20260426T004353CEST-6658hezRbg@horsealert.local
DTSTAMP:20260425T220453Z
CATEGORIES:Horse Alerts
DESCRIPTION:Fame And Glory & Sans Frontieres Coolmore National Hunt Sires E
 .B.F. Mares Novice Chase \(Grade 2\)
DTSTART:20130117T144000
LOCATION:Eire
SUMMARY:Horse Racing:Fame And Glory & Sans Frontieres Coolmore National Hun
 t Sires E.B.F. Mares Novice Chase \(Grade 2\)
END:VEVENT
END:VCALENDAR
