BEGIN:VCALENDAR
VERSION:2.0
PRODID:-//horsealert.local//NONSGML kigkonsult.se iCalcreator 2.10.5//
CALSCALE:GREGORIAN
X-WR-TIMEZONE:Europe/Dublin
BEGIN:VTIMEZONE
TZID:Etc/GMT-1
BEGIN:STANDARD
DTSTART:20010101T000000
TZOFFSETFROM:+0100
TZOFFSETTO:+0100
TZNAME:GMT +01:00
END:STANDARD
END:VTIMEZONE
BEGIN:VEVENT
UID:20260426T023739CEST-2796Mofvvf@horsealert.local
DTSTAMP:20260426T000439Z
CATEGORIES:Horse Alerts
DESCRIPTION:No Deposit Free Bets With bookmakers.co.uk Maiden Stakes
DTSTART:20130115T152500
LOCATION:England
SUMMARY:Horse Racing:No Deposit Free Bets With bookmakers.co.uk Maiden Stak
 es
END:VEVENT
END:VCALENDAR
