BEGIN:VCALENDAR
VERSION:2.0
PRODID:-//horsealert.local//NONSGML kigkonsult.se iCalcreator 2.10.5//
CALSCALE:GREGORIAN
X-WR-TIMEZONE:Europe/Dublin
BEGIN:VTIMEZONE
TZID:Etc/GMT-1
BEGIN:STANDARD
DTSTART:20010101T000000
TZOFFSETFROM:+0100
TZOFFSETTO:+0100
TZNAME:GMT +01:00
END:STANDARD
END:VTIMEZONE
BEGIN:VEVENT
UID:20260426T023933CEST-1893OOMkfm@horsealert.local
DTSTAMP:20260426T000433Z
CATEGORIES:Horse Alerts
DESCRIPTION:Horse Racing Free Bets With bookmakers.co.uk Maiden Stakes
DTSTART:20130114T162000
LOCATION:England
SUMMARY:Horse Racing:Horse Racing Free Bets With bookmakers.co.uk Maiden St
 akes
END:VEVENT
END:VCALENDAR
