BEGIN:VCALENDAR
VERSION:2.0
PRODID:-//horsealert.local//NONSGML kigkonsult.se iCalcreator 2.10.5//
CALSCALE:GREGORIAN
X-WR-TIMEZONE:Europe/Dublin
BEGIN:VTIMEZONE
TZID:Etc/GMT-1
BEGIN:STANDARD
DTSTART:20010101T000000
TZOFFSETFROM:+0100
TZOFFSETTO:+0100
TZNAME:GMT +01:00
END:STANDARD
END:VTIMEZONE
BEGIN:VEVENT
UID:20260426T023749CEST-2928du09d5@horsealert.local
DTSTAMP:20260426T000449Z
CATEGORIES:Horse Alerts
DESCRIPTION:Betfred \'The Bonus King\' Handicap Chase \(For The Edward Cour
 age Cup\)
DTSTART:20130112T131500
LOCATION:England
SUMMARY:Horse Racing:Betfred \'The Bonus King\' Handicap Chase \(For The Ed
 ward Courage Cup\)
END:VEVENT
END:VCALENDAR
