BEGIN:VCALENDAR
VERSION:2.0
PRODID:-//horsealert.local//NONSGML kigkonsult.se iCalcreator 2.10.5//
CALSCALE:GREGORIAN
X-WR-TIMEZONE:Europe/Dublin
BEGIN:VTIMEZONE
TZID:Etc/GMT-1
BEGIN:STANDARD
DTSTART:20010101T000000
TZOFFSETFROM:+0100
TZOFFSETTO:+0100
TZNAME:GMT +01:00
END:STANDARD
END:VTIMEZONE
BEGIN:VEVENT
UID:20260426T004347CEST-6371gLNhgz@horsealert.local
DTSTAMP:20260425T220447Z
CATEGORIES:Horse Alerts
DESCRIPTION:Visit punchestown.com For All Our Offers Juvenile Hurdle \(Grad
 e 3\)
DTSTART:20130112T141000
LOCATION:Eire
SUMMARY:Horse Racing:Visit punchestown.com For All Our Offers Juvenile Hurd
 le \(Grade 3\)
END:VEVENT
END:VCALENDAR
