BEGIN:VCALENDAR
VERSION:2.0
PRODID:-//horsealert.local//NONSGML kigkonsult.se iCalcreator 2.10.5//
CALSCALE:GREGORIAN
X-WR-TIMEZONE:Europe/Dublin
BEGIN:VTIMEZONE
TZID:Etc/GMT-1
BEGIN:STANDARD
DTSTART:20010101T000000
TZOFFSETFROM:+0100
TZOFFSETTO:+0100
TZNAME:GMT +01:00
END:STANDARD
END:VTIMEZONE
BEGIN:VEVENT
UID:20260426T023744CEST-0146Hzpzhs@horsealert.local
DTSTAMP:20260426T000444Z
CATEGORIES:Horse Alerts
DESCRIPTION:John Wade Earthworks & Demolition Novices\' Hurdle \(Qualifier\
 )
DTSTART:20130111T124000
LOCATION:England
SUMMARY:Horse Racing:John Wade Earthworks & Demolition Novices\' Hurdle \(Q
 ualifier\)
END:VEVENT
END:VCALENDAR
