BEGIN:VCALENDAR
VERSION:2.0
PRODID:-//horsealert.local//NONSGML kigkonsult.se iCalcreator 2.10.5//
CALSCALE:GREGORIAN
X-WR-TIMEZONE:Europe/Dublin
BEGIN:VTIMEZONE
TZID:Etc/GMT-1
BEGIN:STANDARD
DTSTART:20010101T000000
TZOFFSETFROM:+0100
TZOFFSETTO:+0100
TZNAME:GMT +01:00
END:STANDARD
END:VTIMEZONE
BEGIN:VEVENT
UID:20260426T004425CEST-5967xdfsMJ@horsealert.local
DTSTAMP:20260425T220425Z
CATEGORIES:Horse Alerts
DESCRIPTION:W.L. And Hector Christie Memorial Trophy \(Novices\' Handicap C
 hase\)
DTSTART:20130110T151500
LOCATION:England
SUMMARY:Horse Racing:W.L. And Hector Christie Memorial Trophy \(Novices\' H
 andicap Chase\)
END:VEVENT
END:VCALENDAR
