BEGIN:VCALENDAR
VERSION:2.0
PRODID:-//horsealert.local//NONSGML kigkonsult.se iCalcreator 2.10.5//
CALSCALE:GREGORIAN
X-WR-TIMEZONE:Europe/Dublin
BEGIN:VTIMEZONE
TZID:Etc/GMT-1
BEGIN:STANDARD
DTSTART:20010101T000000
TZOFFSETFROM:+0100
TZOFFSETTO:+0100
TZNAME:GMT +01:00
END:STANDARD
END:VTIMEZONE
BEGIN:VEVENT
UID:20260426T043710CEST-90157B8cjR@horsealert.local
DTSTAMP:20260426T020410Z
CATEGORIES:Horse Alerts
DESCRIPTION:Get The Inside Track At bookmakers.co.uk Median Auction Maiden 
 Fillies\' Stakes
DTSTART:20130110T163500
LOCATION:England
SUMMARY:Horse Racing:Get The Inside Track At bookmakers.co.uk Median Auctio
 n Maiden Fillies\' Stakes
END:VEVENT
END:VCALENDAR
