BEGIN:VCALENDAR
VERSION:2.0
PRODID:-//horsealert.local//NONSGML kigkonsult.se iCalcreator 2.10.5//
CALSCALE:GREGORIAN
X-WR-TIMEZONE:Europe/Dublin
BEGIN:VTIMEZONE
TZID:Etc/GMT-1
BEGIN:STANDARD
DTSTART:20010101T000000
TZOFFSETFROM:+0100
TZOFFSETTO:+0100
TZNAME:GMT +01:00
END:STANDARD
END:VTIMEZONE
BEGIN:VEVENT
UID:20260426T023955CEST-5704VDk8wk@horsealert.local
DTSTAMP:20260426T000455Z
CATEGORIES:Horse Alerts
DESCRIPTION:Yorkshire Radio Supporting Yorkshire Racing Juvenile Hurdle
DTSTART:20130109T124000
LOCATION:England
SUMMARY:Horse Racing:Yorkshire Radio Supporting Yorkshire Racing Juvenile H
 urdle
END:VEVENT
END:VCALENDAR
