BEGIN:VCALENDAR
VERSION:2.0
PRODID:-//horsealert.local//NONSGML kigkonsult.se iCalcreator 2.10.5//
CALSCALE:GREGORIAN
X-WR-TIMEZONE:Europe/Dublin
BEGIN:VTIMEZONE
TZID:Etc/GMT-1
BEGIN:STANDARD
DTSTART:20010101T000000
TZOFFSETFROM:+0100
TZOFFSETTO:+0100
TZNAME:GMT +01:00
END:STANDARD
END:VTIMEZONE
BEGIN:VEVENT
UID:20260426T043708CEST-5365Up2V0p@horsealert.local
DTSTAMP:20260426T020408Z
CATEGORIES:Horse Alerts
DESCRIPTION:Coral Welsh National \(Grade 3 Handicap Chase\)
DTSTART:20130105T152000
LOCATION:Wales
SUMMARY:Horse Racing:Coral Welsh National \(Grade 3 Handicap Chase\)
END:VEVENT
END:VCALENDAR
