BEGIN:VCALENDAR
VERSION:2.0
PRODID:-//horsealert.local//NONSGML kigkonsult.se iCalcreator 2.10.5//
CALSCALE:GREGORIAN
X-WR-TIMEZONE:Europe/Dublin
BEGIN:VTIMEZONE
TZID:Etc/GMT-1
BEGIN:STANDARD
DTSTART:20010101T000000
TZOFFSETFROM:+0100
TZOFFSETTO:+0100
TZNAME:GMT +01:00
END:STANDARD
END:VTIMEZONE
BEGIN:VEVENT
UID:20260426T023742CEST-5577iPzaaJ@horsealert.local
DTSTAMP:20260426T000442Z
CATEGORIES:Horse Alerts
DESCRIPTION:coral.co.uk Best Price Guaranteed On Horse Racing Handicap Hurd
 le
DTSTART:20130105T144500
LOCATION:Wales
SUMMARY:Horse Racing:coral.co.uk Best Price Guaranteed On Horse Racing Hand
 icap Hurdle
END:VEVENT
END:VCALENDAR
