BEGIN:VCALENDAR
VERSION:2.0
PRODID:-//horsealert.local//NONSGML kigkonsult.se iCalcreator 2.10.5//
CALSCALE:GREGORIAN
X-WR-TIMEZONE:Europe/Dublin
BEGIN:VTIMEZONE
TZID:Etc/GMT-1
BEGIN:STANDARD
DTSTART:20010101T000000
TZOFFSETFROM:+0100
TZOFFSETTO:+0100
TZNAME:GMT +01:00
END:STANDARD
END:VTIMEZONE
BEGIN:VEVENT
UID:20260426T023942CEST-4086dV6K9H@horsealert.local
DTSTAMP:20260426T000442Z
CATEGORIES:Horse Alerts
DESCRIPTION:Get Rewards4Racing Points With Coral Beginners\' Chase
DTSTART:20130105T130000
LOCATION:Wales
SUMMARY:Horse Racing:Get Rewards4Racing Points With Coral Beginners\' Chase
END:VEVENT
END:VCALENDAR
