BEGIN:VCALENDAR
VERSION:2.0
PRODID:-//horsealert.local//NONSGML kigkonsult.se iCalcreator 2.10.5//
CALSCALE:GREGORIAN
X-WR-TIMEZONE:Europe/Dublin
BEGIN:VTIMEZONE
TZID:Etc/GMT-1
BEGIN:STANDARD
DTSTART:20010101T000000
TZOFFSETFROM:+0100
TZOFFSETTO:+0100
TZNAME:GMT +01:00
END:STANDARD
END:VTIMEZONE
BEGIN:VEVENT
UID:20260426T043722CEST-7420VD3utt@horsealert.local
DTSTAMP:20260426T020422Z
CATEGORIES:Horse Alerts
DESCRIPTION:Dundalk Stadium - Light Up Your Night Handicap \(55-75\)
DTSTART:20130104T182000
LOCATION:Eire
SUMMARY:Horse Racing:Dundalk Stadium - Light Up Your Night Handicap \(55-75
 \)
END:VEVENT
END:VCALENDAR
