BEGIN:VCALENDAR
VERSION:2.0
PRODID:-//horsealert.local//NONSGML kigkonsult.se iCalcreator 2.10.5//
CALSCALE:GREGORIAN
X-WR-TIMEZONE:Europe/Dublin
BEGIN:VTIMEZONE
TZID:Etc/GMT-1
BEGIN:STANDARD
DTSTART:20010101T000000
TZOFFSETFROM:+0100
TZOFFSETTO:+0100
TZNAME:GMT +01:00
END:STANDARD
END:VTIMEZONE
BEGIN:VEVENT
UID:20260426T043721CEST-4662dSMnWP@horsealert.local
DTSTAMP:20260426T020421Z
CATEGORIES:Horse Alerts
DESCRIPTION:BetVictor Cheltenham Festival Antepost Pioneers Conditional Joc
 keys\' Handicap Chase
DTSTART:20130103T140000
LOCATION:Scotland
SUMMARY:Horse Racing:BetVictor Cheltenham Festival Antepost Pioneers Condit
 ional Jockeys\' Handicap Chase
END:VEVENT
END:VCALENDAR
