BEGIN:VCALENDAR
VERSION:2.0
PRODID:-//horsealert.local//NONSGML kigkonsult.se iCalcreator 2.10.5//
CALSCALE:GREGORIAN
X-WR-TIMEZONE:Europe/Dublin
BEGIN:VTIMEZONE
TZID:Etc/GMT-1
BEGIN:STANDARD
DTSTART:20010101T000000
TZOFFSETFROM:+0100
TZOFFSETTO:+0100
TZNAME:GMT +01:00
END:STANDARD
END:VTIMEZONE
BEGIN:VEVENT
UID:20260426T004410CEST-6108c3iZnv@horsealert.local
DTSTAMP:20260425T220410Z
CATEGORIES:Horse Alerts
DESCRIPTION:E.B.F./Follow Us On Twitter At BetVictorRacing \'National Hunt\
 ' Novices\' Hurdle \(Qualifier\)
DTSTART:20130102T122000
LOCATION:Scotland
SUMMARY:Horse Racing:E.B.F./Follow Us On Twitter At BetVictorRacing \'Natio
 nal Hunt\' Novices\' Hurdle \(Qualifier\)
END:VEVENT
END:VCALENDAR
