BEGIN:VCALENDAR
VERSION:2.0
PRODID:-//horsealert.local//NONSGML kigkonsult.se iCalcreator 2.10.5//
CALSCALE:GREGORIAN
X-WR-TIMEZONE:Europe/Dublin
BEGIN:VTIMEZONE
TZID:Etc/GMT-1
BEGIN:STANDARD
DTSTART:20010101T000000
TZOFFSETFROM:+0100
TZOFFSETTO:+0100
TZNAME:GMT +01:00
END:STANDARD
END:VTIMEZONE
BEGIN:VEVENT
UID:20260426T021806CEST-0389fJv6xh@horsealert.local
DTSTAMP:20260426T000406Z
CATEGORIES:Horse Alerts
DESCRIPTION:Waterford & Tramore Racecourse Novice Hurdle
DTSTART:20121231T131500
LOCATION:Eire
SUMMARY:Horse Racing:Waterford & Tramore Racecourse Novice Hurdle
END:VEVENT
END:VCALENDAR
