BEGIN:VCALENDAR
VERSION:2.0
PRODID:-//horsealert.local//NONSGML kigkonsult.se iCalcreator 2.10.5//
CALSCALE:GREGORIAN
X-WR-TIMEZONE:Europe/Dublin
BEGIN:VTIMEZONE
TZID:Etc/GMT-1
BEGIN:STANDARD
DTSTART:20010101T000000
TZOFFSETFROM:+0100
TZOFFSETTO:+0100
TZNAME:GMT +01:00
END:STANDARD
END:VTIMEZONE
BEGIN:VEVENT
UID:20260426T021619CEST-3771POwUCl@horsealert.local
DTSTAMP:20260426T000419Z
CATEGORIES:Horse Alerts
DESCRIPTION:Happy New Year From Betfred \'Fixed Brush\' Handicap Hurdle \(J
 ockey Club Grassroots Jumps Series Qualifier\)
DTSTART:20121230T154000
LOCATION:England
SUMMARY:Horse Racing:Happy New Year From Betfred \'Fixed Brush\' Handicap H
 urdle \(Jockey Club Grassroots Jumps Series Qualifier\)
END:VEVENT
END:VCALENDAR
