BEGIN:VCALENDAR
VERSION:2.0
PRODID:-//horsealert.local//NONSGML kigkonsult.se iCalcreator 2.10.5//
CALSCALE:GREGORIAN
X-WR-TIMEZONE:Europe/Dublin
BEGIN:VTIMEZONE
TZID:Etc/GMT-1
BEGIN:STANDARD
DTSTART:20010101T000000
TZOFFSETFROM:+0100
TZOFFSETTO:+0100
TZNAME:GMT +01:00
END:STANDARD
END:VTIMEZONE
BEGIN:VEVENT
UID:20260426T021610CEST-6341EG3iuu@horsealert.local
DTSTAMP:20260426T000410Z
CATEGORIES:Horse Alerts
DESCRIPTION:British Stallion Studs Northern Racing Club \'Trainer Traits\' 
 E.B.F. \'National Hunt\' Novices\' Hurdle \(Qualifier\)
DTSTART:20121230T132500
LOCATION:England
SUMMARY:Horse Racing:British Stallion Studs Northern Racing Club \'Trainer 
 Traits\' E.B.F. \'National Hunt\' Novices\' Hurdle \(Qualifier\)
END:VEVENT
END:VCALENDAR
