BEGIN:VCALENDAR
VERSION:2.0
PRODID:-//horsealert.local//NONSGML kigkonsult.se iCalcreator 2.10.5//
CALSCALE:GREGORIAN
X-WR-TIMEZONE:Europe/Dublin
BEGIN:VTIMEZONE
TZID:Etc/GMT-1
BEGIN:STANDARD
DTSTART:20010101T000000
TZOFFSETFROM:+0100
TZOFFSETTO:+0100
TZNAME:GMT +01:00
END:STANDARD
END:VTIMEZONE
BEGIN:VEVENT
UID:20260426T021728CEST-4039SsB2Bx@horsealert.local
DTSTAMP:20260426T000428Z
CATEGORIES:Horse Alerts
DESCRIPTION:New & Used Cars At jct600.co.uk Introductory Juvenile Hurdle
DTSTART:20121227T134500
LOCATION:England
SUMMARY:Horse Racing:New & Used Cars At jct600.co.uk Introductory Juvenile 
 Hurdle
END:VEVENT
END:VCALENDAR
