BEGIN:VCALENDAR
VERSION:2.0
PRODID:-//horsealert.local//NONSGML kigkonsult.se iCalcreator 2.10.5//
CALSCALE:GREGORIAN
X-WR-TIMEZONE:Europe/Dublin
BEGIN:VTIMEZONE
TZID:Etc/GMT-1
BEGIN:STANDARD
DTSTART:20010101T000000
TZOFFSETFROM:+0100
TZOFFSETTO:+0100
TZNAME:GMT +01:00
END:STANDARD
END:VTIMEZONE
BEGIN:VEVENT
UID:20260426T021720CEST-5370T1Vtgz@horsealert.local
DTSTAMP:20260426T000420Z
CATEGORIES:Horse Alerts
DESCRIPTION:Exclusive Mobile Offers Text Tote To 89660 Beginners\' Chase
DTSTART:20121226T150500
LOCATION:England
SUMMARY:Horse Racing:Exclusive Mobile Offers Text Tote To 89660 Beginners\'
  Chase
END:VEVENT
END:VCALENDAR
