BEGIN:VCALENDAR
VERSION:2.0
PRODID:-//horsealert.local//NONSGML kigkonsult.se iCalcreator 2.10.5//
CALSCALE:GREGORIAN
X-WR-TIMEZONE:Europe/Dublin
BEGIN:VTIMEZONE
TZID:Etc/GMT-1
BEGIN:STANDARD
DTSTART:20010101T000000
TZOFFSETFROM:+0100
TZOFFSETTO:+0100
TZNAME:GMT +01:00
END:STANDARD
END:VTIMEZONE
BEGIN:VEVENT
UID:20260426T021757CEST-4791M3HVvE@horsealert.local
DTSTAMP:20260426T000457Z
CATEGORIES:Horse Alerts
DESCRIPTION:Garthwest Beginners\' Chase
DTSTART:20121226T130000
LOCATION:England
SUMMARY:Horse Racing:Garthwest Beginners\' Chase
END:VEVENT
END:VCALENDAR
