BEGIN:VCALENDAR
VERSION:2.0
PRODID:-//horsealert.local//NONSGML kigkonsult.se iCalcreator 2.10.5//
CALSCALE:GREGORIAN
X-WR-TIMEZONE:Europe/Dublin
BEGIN:VTIMEZONE
TZID:Etc/GMT-1
BEGIN:STANDARD
DTSTART:20010101T000000
TZOFFSETFROM:+0100
TZOFFSETTO:+0100
TZNAME:GMT +01:00
END:STANDARD
END:VTIMEZONE
BEGIN:VEVENT
UID:20260426T042157CEST-8720sh3uMB@horsealert.local
DTSTAMP:20260426T020457Z
CATEGORIES:Horse Alerts
DESCRIPTION:2013 Membership \'The Ideal Xmas Present\' Handicap Hurdle \(80
 -102\) \(Div 1\)
DTSTART:20121222T135000
LOCATION:Eire
SUMMARY:Horse Racing:2013 Membership \'The Ideal Xmas Present\' Handicap Hu
 rdle \(80-102\) \(Div 1\)
END:VEVENT
END:VCALENDAR
