BEGIN:VCALENDAR
VERSION:2.0
PRODID:-//horsealert.local//NONSGML kigkonsult.se iCalcreator 2.10.5//
CALSCALE:GREGORIAN
X-WR-TIMEZONE:Europe/Dublin
BEGIN:VTIMEZONE
TZID:Etc/GMT-1
BEGIN:STANDARD
DTSTART:20010101T000000
TZOFFSETFROM:+0100
TZOFFSETTO:+0100
TZNAME:GMT +01:00
END:STANDARD
END:VTIMEZONE
BEGIN:VEVENT
UID:20260426T021617CEST-7381De8Dw5@horsealert.local
DTSTAMP:20260426T000417Z
CATEGORIES:Horse Alerts
DESCRIPTION:Try gg.com On Your Mobile Mares\' Standard Open NH Flat Race
DTSTART:20121220T154000
LOCATION:England
SUMMARY:Horse Racing:Try gg.com On Your Mobile Mares\' Standard Open NH Fla
 t Race
END:VEVENT
END:VCALENDAR
