BEGIN:VCALENDAR
VERSION:2.0
PRODID:-//horsealert.local//NONSGML kigkonsult.se iCalcreator 2.10.5//
CALSCALE:GREGORIAN
X-WR-TIMEZONE:Europe/Dublin
BEGIN:VTIMEZONE
TZID:Etc/GMT-1
BEGIN:STANDARD
DTSTART:20010101T000000
TZOFFSETFROM:+0100
TZOFFSETTO:+0100
TZNAME:GMT +01:00
END:STANDARD
END:VTIMEZONE
BEGIN:VEVENT
UID:20260426T021725CEST-9556uvsfge@horsealert.local
DTSTAMP:20260426T000425Z
CATEGORIES:Horse Alerts
DESCRIPTION:Have An Abba Christmas Handicap Hurdle \(80-95\) \(Div 2\)
DTSTART:20121220T145500
LOCATION:Northern Ireland
SUMMARY:Horse Racing:Have An Abba Christmas Handicap Hurdle \(80-95\) \(Div
  2\)
END:VEVENT
END:VCALENDAR
