BEGIN:VCALENDAR
VERSION:2.0
PRODID:-//horsealert.local//NONSGML kigkonsult.se iCalcreator 2.10.5//
CALSCALE:GREGORIAN
X-WR-TIMEZONE:Europe/Dublin
BEGIN:VTIMEZONE
TZID:Etc/GMT-1
BEGIN:STANDARD
DTSTART:20010101T000000
TZOFFSETFROM:+0100
TZOFFSETTO:+0100
TZNAME:GMT +01:00
END:STANDARD
END:VTIMEZONE
BEGIN:VEVENT
UID:20260426T042201CEST-9231pfmHBb@horsealert.local
DTSTAMP:20260426T020401Z
CATEGORIES:Horse Alerts
DESCRIPTION:\'Save The Last Race\' For Eastwell Manor Handicap Chase
DTSTART:20121218T153000
LOCATION:England
SUMMARY:Horse Racing:\'Save The Last Race\' For Eastwell Manor Handicap Cha
 se
END:VEVENT
END:VCALENDAR
