BEGIN:VCALENDAR
VERSION:2.0
PRODID:-//horsealert.local//NONSGML kigkonsult.se iCalcreator 2.10.5//
CALSCALE:GREGORIAN
X-WR-TIMEZONE:Europe/Dublin
BEGIN:VTIMEZONE
TZID:Etc/GMT-1
BEGIN:STANDARD
DTSTART:20010101T000000
TZOFFSETFROM:+0100
TZOFFSETTO:+0100
TZNAME:GMT +01:00
END:STANDARD
END:VTIMEZONE
BEGIN:VEVENT
UID:20260426T042211CEST-25749lUpsC@horsealert.local
DTSTAMP:20260426T020411Z
CATEGORIES:Horse Alerts
DESCRIPTION:wolverhampton-racecourse.co.uk Claiming Stakes
DTSTART:20121217T162500
LOCATION:England
SUMMARY:Horse Racing:wolverhampton-racecourse.co.uk Claiming Stakes
END:VEVENT
END:VCALENDAR
