BEGIN:VCALENDAR
VERSION:2.0
PRODID:-//horsealert.local//NONSGML kigkonsult.se iCalcreator 2.10.5//
CALSCALE:GREGORIAN
X-WR-TIMEZONE:Europe/Dublin
BEGIN:VTIMEZONE
TZID:Etc/GMT-1
BEGIN:STANDARD
DTSTART:20010101T000000
TZOFFSETFROM:+0100
TZOFFSETTO:+0100
TZNAME:GMT +01:00
END:STANDARD
END:VTIMEZONE
BEGIN:VEVENT
UID:20260426T021733CEST-1260Vskkeu@horsealert.local
DTSTAMP:20260426T000433Z
CATEGORIES:Horse Alerts
DESCRIPTION:Jean Granel Chase
DTSTART:20121216T124500
LOCATION:France
SUMMARY:Horse Racing:Jean Granel Chase
END:VEVENT
END:VCALENDAR
